BEGIN:VCALENDAR
VERSION:2.0
PRODID:-//Groundwork - ECPv6.15.20//NONSGML v1.0//EN
CALSCALE:GREGORIAN
METHOD:PUBLISH
X-WR-CALNAME:Groundwork
X-ORIGINAL-URL:https://groundwork.space
X-WR-CALDESC:Events for Groundwork
REFRESH-INTERVAL;VALUE=DURATION:PT1H
X-Robots-Tag:noindex
X-PUBLISHED-TTL:PT1H
BEGIN:VTIMEZONE
TZID:America/New_York
BEGIN:DAYLIGHT
TZOFFSETFROM:-0500
TZOFFSETTO:-0400
TZNAME:EDT
DTSTART:20250309T070000
END:DAYLIGHT
BEGIN:STANDARD
TZOFFSETFROM:-0400
TZOFFSETTO:-0500
TZNAME:EST
DTSTART:20251102T060000
END:STANDARD
BEGIN:DAYLIGHT
TZOFFSETFROM:-0500
TZOFFSETTO:-0400
TZNAME:EDT
DTSTART:20260308T070000
END:DAYLIGHT
BEGIN:STANDARD
TZOFFSETFROM:-0400
TZOFFSETTO:-0500
TZNAME:EST
DTSTART:20261101T060000
END:STANDARD
BEGIN:DAYLIGHT
TZOFFSETFROM:-0500
TZOFFSETTO:-0400
TZNAME:EDT
DTSTART:20270314T070000
END:DAYLIGHT
BEGIN:STANDARD
TZOFFSETFROM:-0400
TZOFFSETTO:-0500
TZNAME:EST
DTSTART:20271107T060000
END:STANDARD
BEGIN:DAYLIGHT
TZOFFSETFROM:-0500
TZOFFSETTO:-0400
TZNAME:EDT
DTSTART:20280312T070000
END:DAYLIGHT
BEGIN:STANDARD
TZOFFSETFROM:-0400
TZOFFSETTO:-0500
TZNAME:EST
DTSTART:20281105T060000
END:STANDARD
BEGIN:DAYLIGHT
TZOFFSETFROM:-0500
TZOFFSETTO:-0400
TZNAME:EDT
DTSTART:20290311T070000
END:DAYLIGHT
BEGIN:STANDARD
TZOFFSETFROM:-0400
TZOFFSETTO:-0500
TZNAME:EST
DTSTART:20291104T060000
END:STANDARD
END:VTIMEZONE
BEGIN:VEVENT
DTSTART;TZID=America/New_York:20260505T120000
DTEND;TZID=America/New_York:20260505T130000
DTSTAMP:20260422T054350
CREATED:20260212T191128Z
LAST-MODIFIED:20260212T191128Z
UID:10009742-1777982400-1777986000@groundwork.space
SUMMARY:Member Event: Member Lunch
DESCRIPTION:Join us in the Groundwork kitchen on the first Tuesday of every month at both locations for free lunch from a local spot!
URL:https://groundwork.space/event/groundwork-member-lunch/2026-05-05/
LOCATION:Groundwork – Coworking Space in South Coast\, MA\, New Bedford & Fall River\, Massachusetts
CATEGORIES:member event
ATTACH;FMTTYPE=image/jpeg:https://groundwork.space/wp-content/uploads/2026/02/IMG_0389.jpg
END:VEVENT
BEGIN:VEVENT
DTSTART;TZID=America/New_York:20260602T120000
DTEND;TZID=America/New_York:20260602T130000
DTSTAMP:20260422T054350
CREATED:20260212T191128Z
LAST-MODIFIED:20260212T191128Z
UID:10009743-1780401600-1780405200@groundwork.space
SUMMARY:Member Event: Member Lunch
DESCRIPTION:Join us in the Groundwork kitchen on the first Tuesday of every month at both locations for free lunch from a local spot!
URL:https://groundwork.space/event/groundwork-member-lunch/2026-06-02/
LOCATION:Groundwork – Coworking Space in South Coast\, MA\, New Bedford & Fall River\, Massachusetts
CATEGORIES:member event
ATTACH;FMTTYPE=image/jpeg:https://groundwork.space/wp-content/uploads/2026/02/IMG_0389.jpg
END:VEVENT
BEGIN:VEVENT
DTSTART;TZID=America/New_York:20260707T120000
DTEND;TZID=America/New_York:20260707T130000
DTSTAMP:20260422T054350
CREATED:20260212T191128Z
LAST-MODIFIED:20260212T191128Z
UID:10009744-1783425600-1783429200@groundwork.space
SUMMARY:Member Event: Member Lunch
DESCRIPTION:Join us in the Groundwork kitchen on the first Tuesday of every month at both locations for free lunch from a local spot!
URL:https://groundwork.space/event/groundwork-member-lunch/2026-07-07/
LOCATION:Groundwork – Coworking Space in South Coast\, MA\, New Bedford & Fall River\, Massachusetts
CATEGORIES:member event
ATTACH;FMTTYPE=image/jpeg:https://groundwork.space/wp-content/uploads/2026/02/IMG_0389.jpg
END:VEVENT
BEGIN:VEVENT
DTSTART;TZID=America/New_York:20260804T120000
DTEND;TZID=America/New_York:20260804T130000
DTSTAMP:20260422T054350
CREATED:20260212T191128Z
LAST-MODIFIED:20260212T191128Z
UID:10009745-1785844800-1785848400@groundwork.space
SUMMARY:Member Event: Member Lunch
DESCRIPTION:Join us in the Groundwork kitchen on the first Tuesday of every month at both locations for free lunch from a local spot!
URL:https://groundwork.space/event/groundwork-member-lunch/2026-08-04/
LOCATION:Groundwork – Coworking Space in South Coast\, MA\, New Bedford & Fall River\, Massachusetts
CATEGORIES:member event
ATTACH;FMTTYPE=image/jpeg:https://groundwork.space/wp-content/uploads/2026/02/IMG_0389.jpg
END:VEVENT
BEGIN:VEVENT
DTSTART;TZID=America/New_York:20260901T120000
DTEND;TZID=America/New_York:20260901T130000
DTSTAMP:20260422T054350
CREATED:20260212T191128Z
LAST-MODIFIED:20260212T191128Z
UID:10009746-1788264000-1788267600@groundwork.space
SUMMARY:Member Event: Member Lunch
DESCRIPTION:Join us in the Groundwork kitchen on the first Tuesday of every month at both locations for free lunch from a local spot!
URL:https://groundwork.space/event/groundwork-member-lunch/2026-09-01/
LOCATION:Groundwork – Coworking Space in South Coast\, MA\, New Bedford & Fall River\, Massachusetts
CATEGORIES:member event
ATTACH;FMTTYPE=image/jpeg:https://groundwork.space/wp-content/uploads/2026/02/IMG_0389.jpg
END:VEVENT
BEGIN:VEVENT
DTSTART;TZID=America/New_York:20261006T120000
DTEND;TZID=America/New_York:20261006T130000
DTSTAMP:20260422T054350
CREATED:20260212T191128Z
LAST-MODIFIED:20260212T191128Z
UID:10009747-1791288000-1791291600@groundwork.space
SUMMARY:Member Event: Member Lunch
DESCRIPTION:Join us in the Groundwork kitchen on the first Tuesday of every month at both locations for free lunch from a local spot!
URL:https://groundwork.space/event/groundwork-member-lunch/2026-10-06/
LOCATION:Groundwork – Coworking Space in South Coast\, MA\, New Bedford & Fall River\, Massachusetts
CATEGORIES:member event
ATTACH;FMTTYPE=image/jpeg:https://groundwork.space/wp-content/uploads/2026/02/IMG_0389.jpg
END:VEVENT
BEGIN:VEVENT
DTSTART;TZID=America/New_York:20261103T120000
DTEND;TZID=America/New_York:20261103T130000
DTSTAMP:20260422T054350
CREATED:20260212T191128Z
LAST-MODIFIED:20260212T191128Z
UID:10009748-1793707200-1793710800@groundwork.space
SUMMARY:Member Event: Member Lunch
DESCRIPTION:Join us in the Groundwork kitchen on the first Tuesday of every month at both locations for free lunch from a local spot!
URL:https://groundwork.space/event/groundwork-member-lunch/2026-11-03/
LOCATION:Groundwork – Coworking Space in South Coast\, MA\, New Bedford & Fall River\, Massachusetts
CATEGORIES:member event
ATTACH;FMTTYPE=image/jpeg:https://groundwork.space/wp-content/uploads/2026/02/IMG_0389.jpg
END:VEVENT
BEGIN:VEVENT
DTSTART;TZID=America/New_York:20261201T120000
DTEND;TZID=America/New_York:20261201T130000
DTSTAMP:20260422T054350
CREATED:20260212T191128Z
LAST-MODIFIED:20260212T191128Z
UID:10009749-1796126400-1796130000@groundwork.space
SUMMARY:Member Event: Member Lunch
DESCRIPTION:Join us in the Groundwork kitchen on the first Tuesday of every month at both locations for free lunch from a local spot!
URL:https://groundwork.space/event/groundwork-member-lunch/2026-12-01/
LOCATION:Groundwork – Coworking Space in South Coast\, MA\, New Bedford & Fall River\, Massachusetts
CATEGORIES:member event
ATTACH;FMTTYPE=image/jpeg:https://groundwork.space/wp-content/uploads/2026/02/IMG_0389.jpg
END:VEVENT
BEGIN:VEVENT
DTSTART;TZID=America/New_York:20270105T120000
DTEND;TZID=America/New_York:20270105T130000
DTSTAMP:20260422T054350
CREATED:20260212T191128Z
LAST-MODIFIED:20260212T191128Z
UID:10009750-1799150400-1799154000@groundwork.space
SUMMARY:Member Event: Member Lunch
DESCRIPTION:Join us in the Groundwork kitchen on the first Tuesday of every month at both locations for free lunch from a local spot!
URL:https://groundwork.space/event/groundwork-member-lunch/2027-01-05/
LOCATION:Groundwork – Coworking Space in South Coast\, MA\, New Bedford & Fall River\, Massachusetts
CATEGORIES:member event
ATTACH;FMTTYPE=image/jpeg:https://groundwork.space/wp-content/uploads/2026/02/IMG_0389.jpg
END:VEVENT
BEGIN:VEVENT
DTSTART;TZID=America/New_York:20270202T120000
DTEND;TZID=America/New_York:20270202T130000
DTSTAMP:20260422T054350
CREATED:20260212T191128Z
LAST-MODIFIED:20260212T191128Z
UID:10009751-1801569600-1801573200@groundwork.space
SUMMARY:Member Event: Member Lunch
DESCRIPTION:Join us in the Groundwork kitchen on the first Tuesday of every month at both locations for free lunch from a local spot!
URL:https://groundwork.space/event/groundwork-member-lunch/2027-02-02/
LOCATION:Groundwork – Coworking Space in South Coast\, MA\, New Bedford & Fall River\, Massachusetts
CATEGORIES:member event
ATTACH;FMTTYPE=image/jpeg:https://groundwork.space/wp-content/uploads/2026/02/IMG_0389.jpg
END:VEVENT
BEGIN:VEVENT
DTSTART;TZID=America/New_York:20270302T120000
DTEND;TZID=America/New_York:20270302T130000
DTSTAMP:20260422T054350
CREATED:20260212T191128Z
LAST-MODIFIED:20260212T191128Z
UID:10009752-1803988800-1803992400@groundwork.space
SUMMARY:Member Event: Member Lunch
DESCRIPTION:Join us in the Groundwork kitchen on the first Tuesday of every month at both locations for free lunch from a local spot!
URL:https://groundwork.space/event/groundwork-member-lunch/2027-03-02/
LOCATION:Groundwork – Coworking Space in South Coast\, MA\, New Bedford & Fall River\, Massachusetts
CATEGORIES:member event
ATTACH;FMTTYPE=image/jpeg:https://groundwork.space/wp-content/uploads/2026/02/IMG_0389.jpg
END:VEVENT
BEGIN:VEVENT
DTSTART;TZID=America/New_York:20270406T120000
DTEND;TZID=America/New_York:20270406T130000
DTSTAMP:20260422T054350
CREATED:20260212T191128Z
LAST-MODIFIED:20260212T191128Z
UID:10009753-1807012800-1807016400@groundwork.space
SUMMARY:Member Event: Member Lunch
DESCRIPTION:Join us in the Groundwork kitchen on the first Tuesday of every month at both locations for free lunch from a local spot!
URL:https://groundwork.space/event/groundwork-member-lunch/2027-04-06/
LOCATION:Groundwork – Coworking Space in South Coast\, MA\, New Bedford & Fall River\, Massachusetts
CATEGORIES:member event
ATTACH;FMTTYPE=image/jpeg:https://groundwork.space/wp-content/uploads/2026/02/IMG_0389.jpg
END:VEVENT
BEGIN:VEVENT
DTSTART;TZID=America/New_York:20270504T120000
DTEND;TZID=America/New_York:20270504T130000
DTSTAMP:20260422T054350
CREATED:20260212T191128Z
LAST-MODIFIED:20260212T191128Z
UID:10009754-1809432000-1809435600@groundwork.space
SUMMARY:Member Event: Member Lunch
DESCRIPTION:Join us in the Groundwork kitchen on the first Tuesday of every month at both locations for free lunch from a local spot!
URL:https://groundwork.space/event/groundwork-member-lunch/2027-05-04/
LOCATION:Groundwork – Coworking Space in South Coast\, MA\, New Bedford & Fall River\, Massachusetts
CATEGORIES:member event
ATTACH;FMTTYPE=image/jpeg:https://groundwork.space/wp-content/uploads/2026/02/IMG_0389.jpg
END:VEVENT
BEGIN:VEVENT
DTSTART;TZID=America/New_York:20270601T120000
DTEND;TZID=America/New_York:20270601T130000
DTSTAMP:20260422T054350
CREATED:20260212T191128Z
LAST-MODIFIED:20260212T191128Z
UID:10009755-1811851200-1811854800@groundwork.space
SUMMARY:Member Event: Member Lunch
DESCRIPTION:Join us in the Groundwork kitchen on the first Tuesday of every month at both locations for free lunch from a local spot!
URL:https://groundwork.space/event/groundwork-member-lunch/2027-06-01/
LOCATION:Groundwork – Coworking Space in South Coast\, MA\, New Bedford & Fall River\, Massachusetts
CATEGORIES:member event
ATTACH;FMTTYPE=image/jpeg:https://groundwork.space/wp-content/uploads/2026/02/IMG_0389.jpg
END:VEVENT
BEGIN:VEVENT
DTSTART;TZID=America/New_York:20270706T120000
DTEND;TZID=America/New_York:20270706T130000
DTSTAMP:20260422T054350
CREATED:20260212T191128Z
LAST-MODIFIED:20260212T191128Z
UID:10009756-1814875200-1814878800@groundwork.space
SUMMARY:Member Event: Member Lunch
DESCRIPTION:Join us in the Groundwork kitchen on the first Tuesday of every month at both locations for free lunch from a local spot!
URL:https://groundwork.space/event/groundwork-member-lunch/2027-07-06/
LOCATION:Groundwork – Coworking Space in South Coast\, MA\, New Bedford & Fall River\, Massachusetts
CATEGORIES:member event
ATTACH;FMTTYPE=image/jpeg:https://groundwork.space/wp-content/uploads/2026/02/IMG_0389.jpg
END:VEVENT
BEGIN:VEVENT
DTSTART;TZID=America/New_York:20270803T120000
DTEND;TZID=America/New_York:20270803T130000
DTSTAMP:20260422T054350
CREATED:20260212T191128Z
LAST-MODIFIED:20260212T191128Z
UID:10009757-1817294400-1817298000@groundwork.space
SUMMARY:Member Event: Member Lunch
DESCRIPTION:Join us in the Groundwork kitchen on the first Tuesday of every month at both locations for free lunch from a local spot!
URL:https://groundwork.space/event/groundwork-member-lunch/2027-08-03/
LOCATION:Groundwork – Coworking Space in South Coast\, MA\, New Bedford & Fall River\, Massachusetts
CATEGORIES:member event
ATTACH;FMTTYPE=image/jpeg:https://groundwork.space/wp-content/uploads/2026/02/IMG_0389.jpg
END:VEVENT
BEGIN:VEVENT
DTSTART;TZID=America/New_York:20270907T120000
DTEND;TZID=America/New_York:20270907T130000
DTSTAMP:20260422T054350
CREATED:20260212T191128Z
LAST-MODIFIED:20260212T191128Z
UID:10009758-1820318400-1820322000@groundwork.space
SUMMARY:Member Event: Member Lunch
DESCRIPTION:Join us in the Groundwork kitchen on the first Tuesday of every month at both locations for free lunch from a local spot!
URL:https://groundwork.space/event/groundwork-member-lunch/2027-09-07/
LOCATION:Groundwork – Coworking Space in South Coast\, MA\, New Bedford & Fall River\, Massachusetts
CATEGORIES:member event
ATTACH;FMTTYPE=image/jpeg:https://groundwork.space/wp-content/uploads/2026/02/IMG_0389.jpg
END:VEVENT
BEGIN:VEVENT
DTSTART;TZID=America/New_York:20271005T120000
DTEND;TZID=America/New_York:20271005T130000
DTSTAMP:20260422T054350
CREATED:20260212T191128Z
LAST-MODIFIED:20260212T191128Z
UID:10009759-1822737600-1822741200@groundwork.space
SUMMARY:Member Event: Member Lunch
DESCRIPTION:Join us in the Groundwork kitchen on the first Tuesday of every month at both locations for free lunch from a local spot!
URL:https://groundwork.space/event/groundwork-member-lunch/2027-10-05/
LOCATION:Groundwork – Coworking Space in South Coast\, MA\, New Bedford & Fall River\, Massachusetts
CATEGORIES:member event
ATTACH;FMTTYPE=image/jpeg:https://groundwork.space/wp-content/uploads/2026/02/IMG_0389.jpg
END:VEVENT
BEGIN:VEVENT
DTSTART;TZID=America/New_York:20271102T120000
DTEND;TZID=America/New_York:20271102T130000
DTSTAMP:20260422T054350
CREATED:20260212T191128Z
LAST-MODIFIED:20260212T191128Z
UID:10009760-1825156800-1825160400@groundwork.space
SUMMARY:Member Event: Member Lunch
DESCRIPTION:Join us in the Groundwork kitchen on the first Tuesday of every month at both locations for free lunch from a local spot!
URL:https://groundwork.space/event/groundwork-member-lunch/2027-11-02/
LOCATION:Groundwork – Coworking Space in South Coast\, MA\, New Bedford & Fall River\, Massachusetts
CATEGORIES:member event
ATTACH;FMTTYPE=image/jpeg:https://groundwork.space/wp-content/uploads/2026/02/IMG_0389.jpg
END:VEVENT
BEGIN:VEVENT
DTSTART;TZID=America/New_York:20271207T120000
DTEND;TZID=America/New_York:20271207T130000
DTSTAMP:20260422T054350
CREATED:20260212T191128Z
LAST-MODIFIED:20260212T191128Z
UID:10009761-1828180800-1828184400@groundwork.space
SUMMARY:Member Event: Member Lunch
DESCRIPTION:Join us in the Groundwork kitchen on the first Tuesday of every month at both locations for free lunch from a local spot!
URL:https://groundwork.space/event/groundwork-member-lunch/2027-12-07/
LOCATION:Groundwork – Coworking Space in South Coast\, MA\, New Bedford & Fall River\, Massachusetts
CATEGORIES:member event
ATTACH;FMTTYPE=image/jpeg:https://groundwork.space/wp-content/uploads/2026/02/IMG_0389.jpg
END:VEVENT
BEGIN:VEVENT
DTSTART;TZID=America/New_York:20280104T120000
DTEND;TZID=America/New_York:20280104T130000
DTSTAMP:20260422T054350
CREATED:20260212T191128Z
LAST-MODIFIED:20260212T191128Z
UID:10009762-1830600000-1830603600@groundwork.space
SUMMARY:Member Event: Member Lunch
DESCRIPTION:Join us in the Groundwork kitchen on the first Tuesday of every month at both locations for free lunch from a local spot!
URL:https://groundwork.space/event/groundwork-member-lunch/2028-01-04/
LOCATION:Groundwork – Coworking Space in South Coast\, MA\, New Bedford & Fall River\, Massachusetts
CATEGORIES:member event
ATTACH;FMTTYPE=image/jpeg:https://groundwork.space/wp-content/uploads/2026/02/IMG_0389.jpg
END:VEVENT
BEGIN:VEVENT
DTSTART;TZID=America/New_York:20280201T120000
DTEND;TZID=America/New_York:20280201T130000
DTSTAMP:20260422T054350
CREATED:20260212T191128Z
LAST-MODIFIED:20260212T191128Z
UID:10009763-1833019200-1833022800@groundwork.space
SUMMARY:Member Event: Member Lunch
DESCRIPTION:Join us in the Groundwork kitchen on the first Tuesday of every month at both locations for free lunch from a local spot!
URL:https://groundwork.space/event/groundwork-member-lunch/2028-02-01/
LOCATION:Groundwork – Coworking Space in South Coast\, MA\, New Bedford & Fall River\, Massachusetts
CATEGORIES:member event
ATTACH;FMTTYPE=image/jpeg:https://groundwork.space/wp-content/uploads/2026/02/IMG_0389.jpg
END:VEVENT
BEGIN:VEVENT
DTSTART;TZID=America/New_York:20280307T120000
DTEND;TZID=America/New_York:20280307T130000
DTSTAMP:20260422T054350
CREATED:20260212T191128Z
LAST-MODIFIED:20260212T191128Z
UID:10009764-1836043200-1836046800@groundwork.space
SUMMARY:Member Event: Member Lunch
DESCRIPTION:Join us in the Groundwork kitchen on the first Tuesday of every month at both locations for free lunch from a local spot!
URL:https://groundwork.space/event/groundwork-member-lunch/2028-03-07/
LOCATION:Groundwork – Coworking Space in South Coast\, MA\, New Bedford & Fall River\, Massachusetts
CATEGORIES:member event
ATTACH;FMTTYPE=image/jpeg:https://groundwork.space/wp-content/uploads/2026/02/IMG_0389.jpg
END:VEVENT
BEGIN:VEVENT
DTSTART;TZID=America/New_York:20280404T120000
DTEND;TZID=America/New_York:20280404T130000
DTSTAMP:20260422T054350
CREATED:20260212T191128Z
LAST-MODIFIED:20260212T191128Z
UID:10009765-1838462400-1838466000@groundwork.space
SUMMARY:Member Event: Member Lunch
DESCRIPTION:Join us in the Groundwork kitchen on the first Tuesday of every month at both locations for free lunch from a local spot!
URL:https://groundwork.space/event/groundwork-member-lunch/2028-04-04/
LOCATION:Groundwork – Coworking Space in South Coast\, MA\, New Bedford & Fall River\, Massachusetts
CATEGORIES:member event
ATTACH;FMTTYPE=image/jpeg:https://groundwork.space/wp-content/uploads/2026/02/IMG_0389.jpg
END:VEVENT
BEGIN:VEVENT
DTSTART;TZID=America/New_York:20280502T120000
DTEND;TZID=America/New_York:20280502T130000
DTSTAMP:20260422T054350
CREATED:20260212T191128Z
LAST-MODIFIED:20260212T191128Z
UID:10009766-1840881600-1840885200@groundwork.space
SUMMARY:Member Event: Member Lunch
DESCRIPTION:Join us in the Groundwork kitchen on the first Tuesday of every month at both locations for free lunch from a local spot!
URL:https://groundwork.space/event/groundwork-member-lunch/2028-05-02/
LOCATION:Groundwork – Coworking Space in South Coast\, MA\, New Bedford & Fall River\, Massachusetts
CATEGORIES:member event
ATTACH;FMTTYPE=image/jpeg:https://groundwork.space/wp-content/uploads/2026/02/IMG_0389.jpg
END:VEVENT
BEGIN:VEVENT
DTSTART;TZID=America/New_York:20280606T120000
DTEND;TZID=America/New_York:20280606T130000
DTSTAMP:20260422T054350
CREATED:20260212T191128Z
LAST-MODIFIED:20260212T191128Z
UID:10009767-1843905600-1843909200@groundwork.space
SUMMARY:Member Event: Member Lunch
DESCRIPTION:Join us in the Groundwork kitchen on the first Tuesday of every month at both locations for free lunch from a local spot!
URL:https://groundwork.space/event/groundwork-member-lunch/2028-06-06/
LOCATION:Groundwork – Coworking Space in South Coast\, MA\, New Bedford & Fall River\, Massachusetts
CATEGORIES:member event
ATTACH;FMTTYPE=image/jpeg:https://groundwork.space/wp-content/uploads/2026/02/IMG_0389.jpg
END:VEVENT
BEGIN:VEVENT
DTSTART;TZID=America/New_York:20280704T120000
DTEND;TZID=America/New_York:20280704T130000
DTSTAMP:20260422T054350
CREATED:20260212T191128Z
LAST-MODIFIED:20260212T191128Z
UID:10009768-1846324800-1846328400@groundwork.space
SUMMARY:Member Event: Member Lunch
DESCRIPTION:Join us in the Groundwork kitchen on the first Tuesday of every month at both locations for free lunch from a local spot!
URL:https://groundwork.space/event/groundwork-member-lunch/2028-07-04/
LOCATION:Groundwork – Coworking Space in South Coast\, MA\, New Bedford & Fall River\, Massachusetts
CATEGORIES:member event
ATTACH;FMTTYPE=image/jpeg:https://groundwork.space/wp-content/uploads/2026/02/IMG_0389.jpg
END:VEVENT
BEGIN:VEVENT
DTSTART;TZID=America/New_York:20280801T120000
DTEND;TZID=America/New_York:20280801T130000
DTSTAMP:20260422T054350
CREATED:20260212T191128Z
LAST-MODIFIED:20260212T191128Z
UID:10009769-1848744000-1848747600@groundwork.space
SUMMARY:Member Event: Member Lunch
DESCRIPTION:Join us in the Groundwork kitchen on the first Tuesday of every month at both locations for free lunch from a local spot!
URL:https://groundwork.space/event/groundwork-member-lunch/2028-08-01/
LOCATION:Groundwork – Coworking Space in South Coast\, MA\, New Bedford & Fall River\, Massachusetts
CATEGORIES:member event
ATTACH;FMTTYPE=image/jpeg:https://groundwork.space/wp-content/uploads/2026/02/IMG_0389.jpg
END:VEVENT
BEGIN:VEVENT
DTSTART;TZID=America/New_York:20280905T120000
DTEND;TZID=America/New_York:20280905T130000
DTSTAMP:20260422T054350
CREATED:20260212T191128Z
LAST-MODIFIED:20260212T191128Z
UID:10009770-1851768000-1851771600@groundwork.space
SUMMARY:Member Event: Member Lunch
DESCRIPTION:Join us in the Groundwork kitchen on the first Tuesday of every month at both locations for free lunch from a local spot!
URL:https://groundwork.space/event/groundwork-member-lunch/2028-09-05/
LOCATION:Groundwork – Coworking Space in South Coast\, MA\, New Bedford & Fall River\, Massachusetts
CATEGORIES:member event
ATTACH;FMTTYPE=image/jpeg:https://groundwork.space/wp-content/uploads/2026/02/IMG_0389.jpg
END:VEVENT
BEGIN:VEVENT
DTSTART;TZID=America/New_York:20281003T120000
DTEND;TZID=America/New_York:20281003T130000
DTSTAMP:20260422T054350
CREATED:20260212T191128Z
LAST-MODIFIED:20260212T191128Z
UID:10009771-1854187200-1854190800@groundwork.space
SUMMARY:Member Event: Member Lunch
DESCRIPTION:Join us in the Groundwork kitchen on the first Tuesday of every month at both locations for free lunch from a local spot!
URL:https://groundwork.space/event/groundwork-member-lunch/2028-10-03/
LOCATION:Groundwork – Coworking Space in South Coast\, MA\, New Bedford & Fall River\, Massachusetts
CATEGORIES:member event
ATTACH;FMTTYPE=image/jpeg:https://groundwork.space/wp-content/uploads/2026/02/IMG_0389.jpg
END:VEVENT
END:VCALENDAR