BEGIN:VCALENDAR
VERSION:2.0
PRODID:-//Groundwork - ECPv6.15.20//NONSGML v1.0//EN
CALSCALE:GREGORIAN
METHOD:PUBLISH
X-ORIGINAL-URL:https://groundwork.space
X-WR-CALDESC:Events for Groundwork
REFRESH-INTERVAL;VALUE=DURATION:PT1H
X-Robots-Tag:noindex
X-PUBLISHED-TTL:PT1H
BEGIN:VTIMEZONE
TZID:America/New_York
BEGIN:DAYLIGHT
TZOFFSETFROM:-0500
TZOFFSETTO:-0400
TZNAME:EDT
DTSTART:20250309T070000
END:DAYLIGHT
BEGIN:STANDARD
TZOFFSETFROM:-0400
TZOFFSETTO:-0500
TZNAME:EST
DTSTART:20251102T060000
END:STANDARD
BEGIN:DAYLIGHT
TZOFFSETFROM:-0500
TZOFFSETTO:-0400
TZNAME:EDT
DTSTART:20260308T070000
END:DAYLIGHT
BEGIN:STANDARD
TZOFFSETFROM:-0400
TZOFFSETTO:-0500
TZNAME:EST
DTSTART:20261101T060000
END:STANDARD
BEGIN:DAYLIGHT
TZOFFSETFROM:-0500
TZOFFSETTO:-0400
TZNAME:EDT
DTSTART:20270314T070000
END:DAYLIGHT
BEGIN:STANDARD
TZOFFSETFROM:-0400
TZOFFSETTO:-0500
TZNAME:EST
DTSTART:20271107T060000
END:STANDARD
END:VTIMEZONE
BEGIN:VEVENT
DTSTART;TZID=America/New_York:20260322T130000
DTEND;TZID=America/New_York:20260322T150000
DTSTAMP:20260424T095025
CREATED:20260311T152128Z
LAST-MODIFIED:20260311T152128Z
UID:10009801-1774184400-1774191600@groundwork.space
SUMMARY:Grant Writing Workshop hosted by Write with Community\, Inc.
DESCRIPTION:Feeling like you have a great idea for a project or a grant but not quite sure how to go about writing that winning proposal? Join the in-person Grant Writing Workshop facilitated by Midori Evans and Corey Nuffer of Write With Community\, Inc.  \nYou’ll do hands-on training with two skilled facilitators who have written\, read\, and evaluated hundreds of grants. Don’t miss out on this chance to sharpen your skills and get some great forward momentum! \nThis two-hour workshop will help participants learn how to shape their project descriptions\, what components to focus on\, and how to read their own drafts like a grant reader. Come with a specific project idea or choose from sample ones provided in the workshop.   \nRegistration and more information available at: nbgrantwriting.eventbrite.com
URL:https://groundwork.space/event/grant-writing-workshop/
LOCATION:Groundwork New Bedford\, 1213 Purchase Street\, Groundwork (Enter on Maxfield St.)\, New Bedford\, MA\, 02740\, United States
CATEGORIES:Public Event,Workshop / Class
ATTACH;FMTTYPE=image/png:https://groundwork.space/wp-content/uploads/2026/03/Grant-Writing-Workshop.png
ORGANIZER;CN="Midori Creativity":MAILTO:info@midoricreativity.com
END:VEVENT
END:VCALENDAR