BEGIN:VCALENDAR
VERSION:2.0
PRODID:-//Groundwork - ECPv6.15.20//NONSGML v1.0//EN
CALSCALE:GREGORIAN
METHOD:PUBLISH
X-WR-CALNAME:Groundwork
X-ORIGINAL-URL:https://groundwork.space
X-WR-CALDESC:Events for Groundwork
REFRESH-INTERVAL;VALUE=DURATION:PT1H
X-Robots-Tag:noindex
X-PUBLISHED-TTL:PT1H
BEGIN:VTIMEZONE
TZID:America/New_York
BEGIN:DAYLIGHT
TZOFFSETFROM:-0500
TZOFFSETTO:-0400
TZNAME:EDT
DTSTART:20190310T070000
END:DAYLIGHT
BEGIN:STANDARD
TZOFFSETFROM:-0400
TZOFFSETTO:-0500
TZNAME:EST
DTSTART:20191103T060000
END:STANDARD
BEGIN:DAYLIGHT
TZOFFSETFROM:-0500
TZOFFSETTO:-0400
TZNAME:EDT
DTSTART:20200308T070000
END:DAYLIGHT
BEGIN:STANDARD
TZOFFSETFROM:-0400
TZOFFSETTO:-0500
TZNAME:EST
DTSTART:20201101T060000
END:STANDARD
BEGIN:DAYLIGHT
TZOFFSETFROM:-0500
TZOFFSETTO:-0400
TZNAME:EDT
DTSTART:20210314T070000
END:DAYLIGHT
BEGIN:STANDARD
TZOFFSETFROM:-0400
TZOFFSETTO:-0500
TZNAME:EST
DTSTART:20211107T060000
END:STANDARD
END:VTIMEZONE
BEGIN:VEVENT
DTSTART;TZID=America/New_York:20200212T090000
DTEND;TZID=America/New_York:20200212T100000
DTSTAMP:20260424T112935
CREATED:20200204T182149Z
LAST-MODIFIED:20200204T183054Z
UID:10006780-1581498000-1581501600@groundwork.space
SUMMARY:Member Event - Breakfast of Champions
DESCRIPTION:A lightning talk by member Lauren Lemieux\, Whole Life Coach and founder of Coaching to Fulfill Dreams. Join us for breakfast as we learn more about Lauren’s work\, and a new project she is working on. Your feedback is encouraged and appreciated! \nInterested in speaking at a future Breakfast of Champions? Let Caitlin know at caitlin@newbedfordcoworking.com
URL:https://groundwork.space/event/member-event-breakfast-of-champions-5/
LOCATION:MA
CATEGORIES:member event,Social Events
ATTACH;FMTTYPE=image/jpeg:https://groundwork.space/wp-content/uploads/2020/02/cooed-food-2103949-scaled-e1580840429228.jpg
END:VEVENT
END:VCALENDAR