BEGIN:VCALENDAR
VERSION:2.0
PRODID:-//Groundwork - ECPv6.15.20//NONSGML v1.0//EN
CALSCALE:GREGORIAN
METHOD:PUBLISH
X-ORIGINAL-URL:https://groundwork.space
X-WR-CALDESC:Events for Groundwork
REFRESH-INTERVAL;VALUE=DURATION:PT1H
X-Robots-Tag:noindex
X-PUBLISHED-TTL:PT1H
BEGIN:VTIMEZONE
TZID:America/New_York
BEGIN:DAYLIGHT
TZOFFSETFROM:-0500
TZOFFSETTO:-0400
TZNAME:EDT
DTSTART:20240310T070000
END:DAYLIGHT
BEGIN:STANDARD
TZOFFSETFROM:-0400
TZOFFSETTO:-0500
TZNAME:EST
DTSTART:20241103T060000
END:STANDARD
BEGIN:DAYLIGHT
TZOFFSETFROM:-0500
TZOFFSETTO:-0400
TZNAME:EDT
DTSTART:20250309T070000
END:DAYLIGHT
BEGIN:STANDARD
TZOFFSETFROM:-0400
TZOFFSETTO:-0500
TZNAME:EST
DTSTART:20251102T060000
END:STANDARD
BEGIN:DAYLIGHT
TZOFFSETFROM:-0500
TZOFFSETTO:-0400
TZNAME:EDT
DTSTART:20260308T070000
END:DAYLIGHT
BEGIN:STANDARD
TZOFFSETFROM:-0400
TZOFFSETTO:-0500
TZNAME:EST
DTSTART:20261101T060000
END:STANDARD
END:VTIMEZONE
BEGIN:VEVENT
DTSTART;TZID=America/New_York:20250304T120000
DTEND;TZID=America/New_York:20250304T130000
DTSTAMP:20260422T071554
CREATED:20240930T121053Z
LAST-MODIFIED:20250424T133728Z
UID:10008617-1741089600-1741093200@groundwork.space
SUMMARY:Member Event: Local Lunch
DESCRIPTION:Stop by Groundwork on the first Tuesday of every month for a free lunch from a local spot at both our locations. Lunch is served in kitchen at noon.
URL:https://groundwork.space/event/member-event-local-lunch-2/2025-03-04/
LOCATION:Groundwork – Coworking Space in South Coast\, MA\, New Bedford & Fall River\, Massachusetts
CATEGORIES:member event
ATTACH;FMTTYPE=image/png:https://groundwork.space/wp-content/uploads/2023/07/Untitled-design-1.png
END:VEVENT
BEGIN:VEVENT
DTSTART;TZID=America/New_York:20250304T133000
DTEND;TZID=America/New_York:20250304T153000
DTSTAMP:20260422T071554
CREATED:20250225T145036Z
LAST-MODIFIED:20250225T145036Z
UID:10008890-1741095000-1741102200@groundwork.space
SUMMARY:Writing on Tuesdays with Midori
DESCRIPTION:Whether you’re working on your own writing project\, have a looming deadline\, or are simply looking to spark your creativity\, Writing on Tuesdays with Midori Creativity & The Westport Writer’s Group is the perfect space for you! Join us for a supportive and inspiring environment where you can connect with fellow writers in the South Coast region and dive into your writing practice. \nEach session offers the opportunity for writing prompts or simply dedicate uninterrupted time to your own work. All levels of writers are welcome—whether you’re just starting a new project\, need accountability\, or want to share and collaborate. \nDates and Times: \n\nMar 4: 1:30 – 3:30 PM\nMar 11: 2:00 – 4:00 PM\nMar 18: 2:00 – 4:00 PM\n\nFor more details\, visit midoricreativity.com/writers-group. \nLocation:\nThe Shuttle Meeting Room at Groundwork New Bedford\nNote: The Purchase St. entrance is open\, but please walk through the main floor to reach Groundwork. The Maxfield St. entrance locks at 2 PM\, but someone will be available to let you in. \nWe look forward to writing with you! ✍️
URL:https://groundwork.space/event/writing-on-tuesdays-with-midori/2025-03-04/
LOCATION:Groundwork New Bedford\, 1213 Purchase Street\, Groundwork (Enter on Maxfield St.)\, New Bedford\, MA\, 02740\, United States
CATEGORIES:Free event,Public Event
ATTACH;FMTTYPE=image/png:https://groundwork.space/wp-content/uploads/2025/02/MARCH-WRITING-NB-MIDORI.png
ORGANIZER;CN="Midori Creativity":MAILTO:info@midoricreativity.com
END:VEVENT
END:VCALENDAR