BEGIN:VCALENDAR
VERSION:2.0
PRODID:-//Groundwork - ECPv6.15.20//NONSGML v1.0//EN
CALSCALE:GREGORIAN
METHOD:PUBLISH
X-WR-CALNAME:Groundwork
X-ORIGINAL-URL:https://groundwork.space
X-WR-CALDESC:Events for Groundwork
REFRESH-INTERVAL;VALUE=DURATION:PT1H
X-Robots-Tag:noindex
X-PUBLISHED-TTL:PT1H
BEGIN:VTIMEZONE
TZID:America/New_York
BEGIN:DAYLIGHT
TZOFFSETFROM:-0500
TZOFFSETTO:-0400
TZNAME:EDT
DTSTART:20210314T070000
END:DAYLIGHT
BEGIN:STANDARD
TZOFFSETFROM:-0400
TZOFFSETTO:-0500
TZNAME:EST
DTSTART:20211107T060000
END:STANDARD
BEGIN:DAYLIGHT
TZOFFSETFROM:-0500
TZOFFSETTO:-0400
TZNAME:EDT
DTSTART:20220313T070000
END:DAYLIGHT
BEGIN:STANDARD
TZOFFSETFROM:-0400
TZOFFSETTO:-0500
TZNAME:EST
DTSTART:20221106T060000
END:STANDARD
BEGIN:DAYLIGHT
TZOFFSETFROM:-0500
TZOFFSETTO:-0400
TZNAME:EDT
DTSTART:20230312T070000
END:DAYLIGHT
BEGIN:STANDARD
TZOFFSETFROM:-0400
TZOFFSETTO:-0500
TZNAME:EST
DTSTART:20231105T060000
END:STANDARD
END:VTIMEZONE
BEGIN:VEVENT
DTSTART;TZID=America/New_York:20220908T083000
DTEND;TZID=America/New_York:20220908T090000
DTSTAMP:20260424T070155
CREATED:20220830T143454Z
LAST-MODIFIED:20220830T143454Z
UID:10007196-1662625800-1662627600@groundwork.space
SUMMARY:Member Event: Breakfast of Champions
DESCRIPTION:Come enjoy a light breakfast of yogurt parfaits while learning all about microblading from local small-business owner and GW member\, Brendalee Galarza\, of Little City Tattoos. \nThis is a members only event\, but if you are interested in joining our community\, check out our social club membership here.
URL:https://groundwork.space/event/member-event-breakfast-of-champions-8/
LOCATION:Groundwork New Bedford\, 1213 Purchase Street\, Groundwork (Enter on Maxfield St.)\, New Bedford\, MA\, 02740\, United States
CATEGORIES:member event
ATTACH;FMTTYPE=image/jpeg:https://groundwork.space/wp-content/uploads/2022/08/pexels-antoni-shkraba-5178001-scaled.jpg
ORGANIZER;CN="Groundwork Team":MAILTO:info@newbedfordcoworking.com
END:VEVENT
BEGIN:VEVENT
DTSTART;TZID=America/New_York:20220908T130000
DTEND;TZID=America/New_York:20220908T170000
DTSTAMP:20260424T070155
CREATED:20181004T205802Z
LAST-MODIFIED:20181004T205802Z
UID:10006700-1662642000-1662656400@groundwork.space
SUMMARY:Open Coworking
DESCRIPTION:Check out Groundwork and experience coworking every AHA! Thursday from 1-5pm. Visit our gallery\, grab some of our famous bottomless coffee\, and get the AHA! schedule before you head downtown.
URL:https://groundwork.space/event/open-coworking/2022-09-08/
LOCATION:Groundwork New Bedford\, 1213 Purchase Street\, Groundwork (Enter on Maxfield St.)\, New Bedford\, MA\, 02740\, United States
CATEGORIES:Special Programming
ORGANIZER;CN="Groundwork Team":MAILTO:info@newbedfordcoworking.com
END:VEVENT
BEGIN:VEVENT
DTSTART;TZID=America/New_York:20220908T180000
DTEND;TZID=America/New_York:20220908T200000
DTSTAMP:20260424T070155
CREATED:20220829T163037Z
LAST-MODIFIED:20220829T163037Z
UID:10007195-1662660000-1662667200@groundwork.space
SUMMARY:Reverie: A Photo Exhibition by Svbside.Co
DESCRIPTION:Join us for a solo photo exhibition by Svbside.co \nAnnasaskhea is a portrait and editorial photographer based in New Bedford. This is her debut exhibition\, happening right here at Groundwork! \nThere will be music provided by Anj Kep\, sweet treats available to purchase by e.sweets\, and flowers for purchase by David Gregory’s flower cart.
URL:https://groundwork.space/event/reverie-a-photo-exhibition-by-svbside-co/
LOCATION:Groundwork New Bedford\, 1213 Purchase Street\, Groundwork (Enter on Maxfield St.)\, New Bedford\, MA\, 02740\, United States
CATEGORIES:Art opening,Social Events,Special Programming
ATTACH;FMTTYPE=image/png:https://groundwork.space/wp-content/uploads/2022/08/1.png
ORGANIZER;CN="Groundwork Team":MAILTO:info@newbedfordcoworking.com
END:VEVENT
END:VCALENDAR