BEGIN:VCALENDAR
VERSION:2.0
PRODID:-//Groundwork - ECPv6.15.20//NONSGML v1.0//EN
CALSCALE:GREGORIAN
METHOD:PUBLISH
X-WR-CALNAME:Groundwork
X-ORIGINAL-URL:https://groundwork.space
X-WR-CALDESC:Events for Groundwork
REFRESH-INTERVAL;VALUE=DURATION:PT1H
X-Robots-Tag:noindex
X-PUBLISHED-TTL:PT1H
BEGIN:VTIMEZONE
TZID:America/New_York
BEGIN:DAYLIGHT
TZOFFSETFROM:-0500
TZOFFSETTO:-0400
TZNAME:EDT
DTSTART:20190310T070000
END:DAYLIGHT
BEGIN:STANDARD
TZOFFSETFROM:-0400
TZOFFSETTO:-0500
TZNAME:EST
DTSTART:20191103T060000
END:STANDARD
BEGIN:DAYLIGHT
TZOFFSETFROM:-0500
TZOFFSETTO:-0400
TZNAME:EDT
DTSTART:20200308T070000
END:DAYLIGHT
BEGIN:STANDARD
TZOFFSETFROM:-0400
TZOFFSETTO:-0500
TZNAME:EST
DTSTART:20201101T060000
END:STANDARD
BEGIN:DAYLIGHT
TZOFFSETFROM:-0500
TZOFFSETTO:-0400
TZNAME:EDT
DTSTART:20210314T070000
END:DAYLIGHT
BEGIN:STANDARD
TZOFFSETFROM:-0400
TZOFFSETTO:-0500
TZNAME:EST
DTSTART:20211107T060000
END:STANDARD
END:VTIMEZONE
BEGIN:VEVENT
DTSTART;TZID=America/New_York:20200109T130000
DTEND;TZID=America/New_York:20200109T170000
DTSTAMP:20260422T071049
CREATED:20181004T205802Z
LAST-MODIFIED:20181004T205802Z
UID:10006668-1578574800-1578589200@groundwork.space
SUMMARY:Open Coworking
DESCRIPTION:Check out Groundwork and experience coworking every AHA! Thursday from 1-5pm. Visit our gallery\, grab some of our famous bottomless coffee\, and get the AHA! schedule before you head downtown.
URL:https://groundwork.space/event/open-coworking/2020-01-09/
LOCATION:Groundwork New Bedford\, 1213 Purchase Street\, Groundwork (Enter on Maxfield St.)\, New Bedford\, MA\, 02740\, United States
CATEGORIES:Special Programming
ORGANIZER;CN="Groundwork Team":MAILTO:info@newbedfordcoworking.com
END:VEVENT
BEGIN:VEVENT
DTSTART;TZID=America/New_York:20200109T130000
DTEND;TZID=America/New_York:20200109T170000
DTSTAMP:20260422T071049
CREATED:20191219T173040Z
LAST-MODIFIED:20200107T183941Z
UID:10006769-1578574800-1578589200@groundwork.space
SUMMARY:January Open House
DESCRIPTION:Join us for some fresh & healthy goodies from our friends at Juiced Cafe New Bedford\, and get work done to the soothing sounds of live piano by Midori Evans. \nBe sure to bring a friend\, and bring a project to work on and take advantage of these free open coworking hours. Come see what coworking is all about! \nOpen house is free and open to the public.
URL:https://groundwork.space/event/january-open-house/
LOCATION:Groundwork New Bedford\, 1213 Purchase Street\, Groundwork (Enter on Maxfield St.)\, New Bedford\, MA\, 02740\, United States
ATTACH;FMTTYPE=image/jpeg:https://groundwork.space/wp-content/uploads/2019/12/LC-GWParty-10-e1576776726726.jpg
END:VEVENT
BEGIN:VEVENT
DTSTART;TZID=America/New_York:20200109T180000
DTEND;TZID=America/New_York:20200109T200000
DTSTAMP:20260422T071049
CREATED:20191219T172104Z
LAST-MODIFIED:20191219T172432Z
UID:10006770-1578592800-1578600000@groundwork.space
SUMMARY:January Business Buzz
DESCRIPTION:We will be kicking off the new year of “notworking” events at the lovely 222 Union Restaurany and Bar! Stop by for a drink and enter a raffle to win one of our “Buzz Beanies” to keep you warm for the winter. \nThere will be live music following the Buzz\, and attendees are welcome to stay and check it out (no cover charge)! \nAs always\, Buzz events are FREE to attend\, but please RSVP on Facebook so we can provide a head count.
URL:https://groundwork.space/event/january-business-buzz/
LOCATION:MA
CATEGORIES:Business Buzz
ATTACH;FMTTYPE=image/jpeg:https://groundwork.space/wp-content/uploads/2018/04/BizBuzzprofilepic.jpg
END:VEVENT
END:VCALENDAR